BEGIN:VCALENDAR
VERSION:2.0
PRODID:https://a1training.biz/
METHOD:PUBLISH
BEGIN:VEVENT
UID:43D6EEC516
ORGANIZER;CN="Steve Reynolds":MAILTO:SReynolds@a1training.uk
SUMMARY:Door Supervisor Refresher and EFAW 
LOCATION:a1 security home counties, 9 Cardiff rd, LU1 1PP
DESCRIPTION:This course is for anyone who needs to refresh their Door Supervisor licence. Easy to follow and taught by experienced instructors, Exams done on tablets so super fast results. Please call 07480181928 for more details.
CLASS:PUBLIC
DTSTART:20260505T090000
DTEND:20260507T170000
DTSTAMP:20260422T132424
BEGIN:VALARM
TRIGGER:-PT1440M
ACTION:DISPLAY
DESCRIPTION:Reminder
END:VALARM
END:VEVENT
END:VCALENDAR